BEGIN:VCALENDAR
VERSION:2.0
PRODID:-//Skagit Fisheries Enhancement Group - ECPv6.15.20//NONSGML v1.0//EN
CALSCALE:GREGORIAN
METHOD:PUBLISH
X-ORIGINAL-URL:https://www.skagitfisheries.org
X-WR-CALDESC:Events for Skagit Fisheries Enhancement Group
REFRESH-INTERVAL;VALUE=DURATION:PT1H
X-Robots-Tag:noindex
X-PUBLISHED-TTL:PT1H
BEGIN:VTIMEZONE
TZID:America/Los_Angeles
BEGIN:DAYLIGHT
TZOFFSETFROM:-0800
TZOFFSETTO:-0700
TZNAME:PDT
DTSTART:20200308T100000
END:DAYLIGHT
BEGIN:STANDARD
TZOFFSETFROM:-0700
TZOFFSETTO:-0800
TZNAME:PST
DTSTART:20201101T090000
END:STANDARD
BEGIN:DAYLIGHT
TZOFFSETFROM:-0800
TZOFFSETTO:-0700
TZNAME:PDT
DTSTART:20210314T100000
END:DAYLIGHT
BEGIN:STANDARD
TZOFFSETFROM:-0700
TZOFFSETTO:-0800
TZNAME:PST
DTSTART:20211107T090000
END:STANDARD
BEGIN:DAYLIGHT
TZOFFSETFROM:-0800
TZOFFSETTO:-0700
TZNAME:PDT
DTSTART:20220313T100000
END:DAYLIGHT
BEGIN:STANDARD
TZOFFSETFROM:-0700
TZOFFSETTO:-0800
TZNAME:PST
DTSTART:20221106T090000
END:STANDARD
END:VTIMEZONE
BEGIN:VEVENT
DTSTART;TZID=America/Los_Angeles:20211023T100000
DTEND;TZID=America/Los_Angeles:20211023T130000
DTSTAMP:20260424T065527
CREATED:20210813T220404Z
LAST-MODIFIED:20211015T173322Z
UID:11561-1634983200-1634994000@www.skagitfisheries.org
SUMMARY:Make a Difference Day Pressentin Park Planting Party
DESCRIPTION:Make a difference for salmon and orcas by planting trees with us! \nIn partnership with Skagit County Parks and Recreation we’ll be planting native plants along the new side channel at Pressentin Park.  As this park will be closed through next June\, this and future volunteer events this fall are the only opportunities for the public to get a sneak peek at the new features of the park\, including the restored Chinook channel. \nGloves and tools will be provided.  Covid-19 safety policy:  SFEG will provide hand sanitizer for volunteers\, and will sanitize all frequently touched surfaces.  Volunteers are encouraged to keep a mask handy at all times but\, per Washington State Covid-19 guidelines\, volunteers are not required to wear a mask while volunteering outdoors.  \nAll ages welcome. \nParking for this event is located at 59924 SR 20 in Marblemount. Please carpool if possible as parking is limited! \nSign up HERE \nUnaccompanied MINORS age 13-17 please have your parent or guardian fill out this form and bring it with you!
URL:https://www.skagitfisheries.org/event/make-a-difference-day-pressentin-park-planting-party/
LOCATION:Pressentin County Park\, Marblemount\, WA
CATEGORIES:Upcoming Events,Work Party
ATTACH;FMTTYPE=image/jpeg:https://www.skagitfisheries.org/wp-content/uploads/2019/07/MADD.jpg
END:VEVENT
BEGIN:VEVENT
DTSTART;TZID=America/Los_Angeles:20211016T100000
DTEND;TZID=America/Los_Angeles:20211016T130000
DTSTAMP:20260424T065527
CREATED:20210811T230108Z
LAST-MODIFIED:20211015T173150Z
UID:11550-1634378400-1634389200@www.skagitfisheries.org
SUMMARY:Orca Recovery Day Planting at Pressentin Park
DESCRIPTION:Riparian planting is in order for the new side channel at Pressentin Park! \nHelp salmon and orcas by planting trees! \nCelebrate Orca Recovery Day in this project to restore Chinook salmon habitat.  In partnership with Skagit County Parks and Recreation we’ll be planting native plants along the new side channel at Pressentin Park.  As this park will be closed through next June\, this and future volutneer events this fall are the only opportunities for the public to get a sneak peek at the new features of the park\, including the restored Chinook channel. \nGloves and tools will be provided.  Covid-19 safety policy:  SFEG will provide hand sanitizer for volunteers\, and will sanitize all frequently touched surfaces.  Volunteers are encouraged to keep a mask handy at all times but\, per Washington State Covid-19 guidelines\, volunteers are not required to wear a mask while volunteering outdoors.  \nAll ages welcome. \nParking for this event is located at 59924 SR 20 in Marblemount. Please carpool if possible as parking is limited! \nSign up HERE \nUnaccompanied MINORS age 13-17 please have your parent or guardian fill out this form and bring it with you!
URL:https://www.skagitfisheries.org/event/orca-recovery-day-planting-at-pressentin-park/
LOCATION:Pressentin County Park\, Marblemount\, WA
CATEGORIES:Upcoming Events,Work Party
ATTACH;FMTTYPE=image/png:https://www.skagitfisheries.org/wp-content/uploads/2021/08/ORD-Vinyl-Sticker-Logo-e1632267599905.png
END:VEVENT
BEGIN:VEVENT
DTSTART;TZID=America/Los_Angeles:20210817T100000
DTEND;TZID=America/Los_Angeles:20210817T120000
DTSTAMP:20260424T065527
CREATED:20210813T220947Z
LAST-MODIFIED:20210813T221658Z
UID:11569-1629194400-1629201600@www.skagitfisheries.org
SUMMARY:Bowman Bay Work Party
DESCRIPTION:Help with watering\, weeding\, general \nmaintenance at this nearshore restoration site. \n  \nMeet at the Bowman Bay boat launch: \n4402 Bowman Bay Rd\, Anacortes \n  \nGloves and tools provided.  Covid-19 safety \npolicy: Vaccinated volunteers willing to attest to vaccination may volunteer without a mask\, but unvaccinated volunteers must wear a mask and maintain social distance.  All ages welcome. \nSign up HERE \n  \n 
URL:https://www.skagitfisheries.org/event/bowman-bay-work-party-7/
LOCATION:Bowman Bay\, 4402 Bowman Bay Rd\, Anacortes\, 98221\, United States
CATEGORIES:Upcoming Events,Work Party
END:VEVENT
BEGIN:VEVENT
DTSTART;TZID=America/Los_Angeles:20210719T110000
DTEND;TZID=America/Los_Angeles:20210719T123000
DTSTAMP:20260424T065527
CREATED:20210707T205432Z
LAST-MODIFIED:20210707T205432Z
UID:11471-1626692400-1626697800@www.skagitfisheries.org
SUMMARY:Bowman Bay Maintenance Party
DESCRIPTION:Help maintain the nearshore restoration project at Bowman Bay! \n  \nHelp with watering\, weeding\, general maintenance at this nearshore restoration site.  \nBeach seine and forage fish egg survey demo following work party. Stay and learn about the nearshore  ecosystem with staff and volunteers from Skagit Marine Resources Committee and Northwest Straits Foundation. \nMeet at the Bowman Bay boat launch: 4402 Bowman Bay Rd\, Anacortes\, WA 98221 \nhttps://goo.gl/maps/e3dxXPgLGnx3sBLZ8 \n  \nGloves and tools provided.  Covid-19 safety policy: Vaccinated volunteers willing to attest to vaccination may volunteer without a mask\, but unvaccinated volunteers must wear a mask and maintain social distance.  All ages welcome. \nSign up HERE \n  \n 
URL:https://www.skagitfisheries.org/event/bowman-bay-maintenance-party/
LOCATION:Bowman Bay\, 4402 Bowman Bay Rd\, Anacortes\, 98221\, United States
CATEGORIES:Upcoming Events,Work Party
END:VEVENT
BEGIN:VEVENT
DTSTART;TZID=America/Los_Angeles:20210708T090000
DTEND;TZID=America/Los_Angeles:20210708T120000
DTSTAMP:20260424T065527
CREATED:20210616T214841Z
LAST-MODIFIED:20210618T154833Z
UID:10857-1625734800-1625745600@www.skagitfisheries.org
SUMMARY:Riverfront Park Mulching Party
DESCRIPTION:Join us Thursday\, July 8th\, 9 am-noon to mulch recently planted native plants at Riverfront Park in Sedro-Woolley. Mulching will hold in moisture and limit weeds in the planted area.  Gloves\, tools\, and snacks provided. Dress for the weather\, and bring a water bottle!
URL:https://www.skagitfisheries.org/event/riverfront-park-mulching-party/
LOCATION:Riverfront Park\, 901 River Road\, Sedro-Woolley\, WA\, 98284
CATEGORIES:Upcoming Events,Work Party
ATTACH;FMTTYPE=image/jpeg:https://www.skagitfisheries.org/wp-content/uploads/2021/06/IMG_20191121_111151353_HDR.jpg
END:VEVENT
END:VCALENDAR