BEGIN:VCALENDAR
VERSION:2.0
PRODID:-//Skagit Fisheries Enhancement Group - ECPv6.15.20//NONSGML v1.0//EN
CALSCALE:GREGORIAN
METHOD:PUBLISH
X-ORIGINAL-URL:https://www.skagitfisheries.org
X-WR-CALDESC:Events for Skagit Fisheries Enhancement Group
REFRESH-INTERVAL;VALUE=DURATION:PT1H
X-Robots-Tag:noindex
X-PUBLISHED-TTL:PT1H
BEGIN:VTIMEZONE
TZID:America/Los_Angeles
BEGIN:DAYLIGHT
TZOFFSETFROM:-0800
TZOFFSETTO:-0700
TZNAME:PDT
DTSTART:20200308T100000
END:DAYLIGHT
BEGIN:STANDARD
TZOFFSETFROM:-0700
TZOFFSETTO:-0800
TZNAME:PST
DTSTART:20201101T090000
END:STANDARD
BEGIN:DAYLIGHT
TZOFFSETFROM:-0800
TZOFFSETTO:-0700
TZNAME:PDT
DTSTART:20210314T100000
END:DAYLIGHT
BEGIN:STANDARD
TZOFFSETFROM:-0700
TZOFFSETTO:-0800
TZNAME:PST
DTSTART:20211107T090000
END:STANDARD
BEGIN:DAYLIGHT
TZOFFSETFROM:-0800
TZOFFSETTO:-0700
TZNAME:PDT
DTSTART:20220313T100000
END:DAYLIGHT
BEGIN:STANDARD
TZOFFSETFROM:-0700
TZOFFSETTO:-0800
TZNAME:PST
DTSTART:20221106T090000
END:STANDARD
BEGIN:DAYLIGHT
TZOFFSETFROM:-0800
TZOFFSETTO:-0700
TZNAME:PDT
DTSTART:20230312T100000
END:DAYLIGHT
BEGIN:STANDARD
TZOFFSETFROM:-0700
TZOFFSETTO:-0800
TZNAME:PST
DTSTART:20231105T090000
END:STANDARD
END:VTIMEZONE
BEGIN:VEVENT
DTSTART;TZID=America/Los_Angeles:20220808T100000
DTEND;TZID=America/Los_Angeles:20220808T120000
DTSTAMP:20260424T052406
CREATED:20220411T211637Z
LAST-MODIFIED:20220801T221959Z
UID:12916-1659952800-1659960000@www.skagitfisheries.org
SUMMARY:Bowman Bay Work Parties-EVENT FULL
DESCRIPTION:Join us this summer for weekday maintenance at our beach restoration site at Bowman Bay\, Deception Pass State Park.  In partnership with Washington State Parks\, Skagit Marine Resources Committee\, and Northwest Straits Foundation. \nAll events 10am-noon; bring garden gloves\, or borrow ours!  Dress for the weather.  Map Link \nWe have one last summer work party left: \nMonday August 8- full \n  \n \n 
URL:https://www.skagitfisheries.org/event/bowman-bay-work-parties/
LOCATION:Deception Pass State Park\, Bowman Bay\, Anacortes\, WA\, 98221\, United States
CATEGORIES:Upcoming Events,Work Party
ATTACH;FMTTYPE=image/jpeg:https://www.skagitfisheries.org/wp-content/uploads/2021/08/IMG_0778-2.jpg
END:VEVENT
BEGIN:VEVENT
DTSTART;TZID=America/Los_Angeles:20220423T100000
DTEND;TZID=America/Los_Angeles:20220423T130000
DTSTAMP:20260424T052406
CREATED:20220211T203909Z
LAST-MODIFIED:20220421T195304Z
UID:12572-1650708000-1650718800@www.skagitfisheries.org
SUMMARY:Earth Day at Riverfront Park
DESCRIPTION:We would like to invite you all formally to our Earth Day event on April 23rd\, located at Riverfront Park in Sedro-Woolley. This event is hosted by Skagit Fisheries Enhancement Group with the City of Sedro-Woolley Public Works Department\, and will last from 10am-1pm\, with everyone adding mulch to plants and trails\, and removing any nonnative invasive vegetation that we find. Thousands of plants have been planted at this site and in-stream habitat work will commence this summer. Earth Day efforts are one step in the process of restoring this site for people and wildlife\, so it would be an honor to have each and every one of you a part of this yearly event. \nWe also plan to host a food drive with Helping Hands Food Bank of Skagit County\, so we encourage you all to donate shelf stable foods. A booth with more information about Skagit Fisheries and salmon populations will be included. To thank our volunteers\, we plan to have a raffle with special prizes as well as tote bags for everyone with commissioned artwork from PNW artist Gray McKenna. \nThank you to Haggen\, Starbucks\, LaFeen’s Donuts\, and Jimmy John’s for providing food\, drinks\, and prizes for volunteers at this event! \nAll ages and abilities welcome- please contact Alison Studley astudley@skagitfisheries.org) if you need special accommodations. \nBring gloves if you have them\, or borrow ours.  Sturdy shoes recommended.  Refreshments provided\, and we look forward to seeing you there! \n  \nRegister HERE   \n 
URL:https://www.skagitfisheries.org/event/earth-day-at-riverfront-park/
LOCATION:Riverfront Park\, 901 River Road\, Sedro-Woolley\, WA\, 98284
CATEGORIES:Upcoming Events,Work Party
ATTACH;FMTTYPE=image/jpeg:https://www.skagitfisheries.org/wp-content/uploads/2019/12/Riverfront-Planting-6-1.jpg
END:VEVENT
BEGIN:VEVENT
DTSTART;TZID=America/Los_Angeles:20220326T100000
DTEND;TZID=America/Los_Angeles:20220326T130000
DTSTAMP:20260424T052406
CREATED:20211214T190437Z
LAST-MODIFIED:20220214T171034Z
UID:12427-1648288800-1648299600@www.skagitfisheries.org
SUMMARY:Nursery Potting Party Mar 26
DESCRIPTION:Join us March 26 to help get baby plants into pots at our nursery.  These plants will reside in the nursery about a year before being planted at streamside restoration sites throughout the Skagit and Samish watersheds. \n10am-1pm the SFEG native plant nursery \nBring your own gloves if you have them.  If not\, we will loan you some!  All ages welcome\, groups welcome! Dress for the weather! \nCovid-19 safety policy:  SFEG will provide hand sanitizer for volunteers\, and will sanitize all frequently touched surfaces.  Volunteers are encouraged to keep a mask handy at all times but\, per Washington State Covid-19 guidelines\, volunteers are not required to wear a mask while volunteering outdoors. \nRegister HERE!
URL:https://www.skagitfisheries.org/event/nursery-potting-party-mar-26/
LOCATION:SFEG Native Plant Nursery\, 21109 Kelleher Road\, Burlington\, WA\, 98233\, United States
CATEGORIES:Upcoming Events,Work Party
ATTACH;FMTTYPE=image/jpeg:https://www.skagitfisheries.org/wp-content/uploads/2021/12/20200713_102008.jpg
END:VEVENT
BEGIN:VEVENT
DTSTART;TZID=America/Los_Angeles:20220319T100000
DTEND;TZID=America/Los_Angeles:20220319T130000
DTSTAMP:20260424T052406
CREATED:20211214T212647Z
LAST-MODIFIED:20220316T175833Z
UID:12442-1647684000-1647694800@www.skagitfisheries.org
SUMMARY:Skagit River South Mount Vernon Planting Party March 19
DESCRIPTION:Join SFEG to help restore native vegetation at Skagit River South Mount Vernon\, March 19\, 10am-1pm. \nThe site is located at 1401 Hazel Rd\, Mount Vernon\, WA\, but please follow signs for event parking. \nBring your own gloves if you have them.  If not\, we will loan you some!  All ages welcome\, dress for the weather! \nCovid-19 safety policy:  SFEG will provide hand sanitizer for volunteers\, and will sanitize all frequently touched surfaces.  Volunteers are encouraged to keep a mask handy at all times but\, per Washington State Covid-19 guidelines\, volunteers are not required to wear a mask while volunteering outdoors. \nPlease Register HERE
URL:https://www.skagitfisheries.org/event/mount-vernon-treatment-plant-planting-party-march-19/
LOCATION:Mount Vernon Wastewater Treatment plant\, 1401 Hazel Rd\, Mount Vernon\, WA
CATEGORIES:Upcoming Events,Work Party
ATTACH;FMTTYPE=image/jpeg:https://www.skagitfisheries.org/wp-content/uploads/2021/05/Molly-with-Cedar-2.jpg
END:VEVENT
BEGIN:VEVENT
DTSTART;TZID=America/Los_Angeles:20220312T100000
DTEND;TZID=America/Los_Angeles:20220312T130000
DTSTAMP:20260424T052406
CREATED:20211214T211910Z
LAST-MODIFIED:20220309T162950Z
UID:12438-1647079200-1647090000@www.skagitfisheries.org
SUMMARY:Skagit River South Mount Vernon Planting Party March 12
DESCRIPTION:Join SFEG to help restore native vegetation at Skagit River South Mount Vernon\, located at 1401 Hazel Rd\, Mount Vernon\, WA. \nBring your own gloves if you have them.  If not\, we will loan you some!  All ages welcome\, dress for the weather\, and please carpool if possible. \nCovid-19 safety policy:  SFEG will provide hand sanitizer for volunteers\, and will sanitize all frequently touched surfaces.  Volunteers are encouraged to keep a mask handy at all times but\, per Washington State Covid-19 guidelines\, volunteers are not required to wear a mask while volunteering outdoors. \nRegistration Required- please register HERE
URL:https://www.skagitfisheries.org/event/mount-vernon-treatment-plant-planting-party-march-12/
LOCATION:WA
CATEGORIES:Upcoming Events,Work Party
ATTACH;FMTTYPE=image/jpeg:https://www.skagitfisheries.org/wp-content/uploads/2018/07/IMG_2513-e1530649110787.jpg
END:VEVENT
BEGIN:VEVENT
DTSTART;TZID=America/Los_Angeles:20220305T100000
DTEND;TZID=America/Los_Angeles:20220305T130000
DTSTAMP:20260424T052406
CREATED:20211214T200640Z
LAST-MODIFIED:20220112T201732Z
UID:12431-1646474400-1646485200@www.skagitfisheries.org
SUMMARY:Planting Party at DeBay’s Slough March 5
DESCRIPTION:Join SFEG to help restore native vegetation in the Skagit Watershed! In Partnership with Washington Department of Fish and Wildlife\, join us at DeBay’s Slough Swan Reserve off Francis Rd. \nBring your own gloves if you have them.  If not\, we will loan you some!  All ages welcome\, dress for the weather! \nCovid-19 safety policy:  SFEG will provide hand sanitizer for volunteers\, and will sanitize all frequently touched surfaces.  Volunteers are encouraged to keep a mask handy at all times but\, per current Washington State Covid-19 guidelines\, volunteers are not required to wear a mask while volunteering outdoors. \nRegistration Required- Please register HERE
URL:https://www.skagitfisheries.org/event/planting-party-at-debays-slough-march-5/
LOCATION:Debay’s Slough Wildlife Area\, 22767 Francis Rd\, Mt Vernon\, WA\, 98273\, United States
CATEGORIES:Upcoming Events,Work Party
ATTACH;FMTTYPE=image/jpeg:https://www.skagitfisheries.org/wp-content/uploads/2021/12/Olivia-Hubert-with-SFEG-volunteers-.jpg
END:VEVENT
BEGIN:VEVENT
DTSTART;TZID=America/Los_Angeles:20220226T100000
DTEND;TZID=America/Los_Angeles:20220226T130000
DTSTAMP:20260424T052406
CREATED:20211214T185353Z
LAST-MODIFIED:20220214T171402Z
UID:12423-1645869600-1645880400@www.skagitfisheries.org
SUMMARY:Nursery Potting Party Feb 26
DESCRIPTION:Join us February 26 to help get baby plants into pots at our nursery.  These plants will reside in the nursery about a year before being planted at streamside restoration sites throughout the Skagit and Samish watersheds. \n10am-1pm the SFEG native plant nursery \nBring your own gloves if you have them.  If not\, we will loan you some!  All ages welcome\, groups welcome! Dress for the weather! \nCovid-19 safety policy:  SFEG will provide hand sanitizer for volunteers\, and will sanitize all frequently touched surfaces.  Volunteers are encouraged to keep a mask handy at all times but\, per Washington State Covid-19 guidelines\, volunteers are not required to wear a mask while volunteering outdoors. \nRegister HERE!
URL:https://www.skagitfisheries.org/event/nursery-potting-party-feb-26/
LOCATION:SFEG Native Plant Nursery\, 21109 Kelleher Road\, Burlington\, WA\, 98233\, United States
CATEGORIES:Upcoming Events,Work Party
ATTACH;FMTTYPE=image/jpeg:https://www.skagitfisheries.org/wp-content/uploads/2021/03/IMG_0057-3.jpg
END:VEVENT
BEGIN:VEVENT
DTSTART;TZID=America/Los_Angeles:20220219T100000
DTEND;TZID=America/Los_Angeles:20220219T130000
DTSTAMP:20260424T052406
CREATED:20211214T184802Z
LAST-MODIFIED:20220214T170926Z
UID:12416-1645264800-1645275600@www.skagitfisheries.org
SUMMARY:Nursery Potting Party Feb 19
DESCRIPTION:Join us February 19 to help get baby plants into pots at our nursery.  These plants will reside in the nursery about a year before being planted at streamside restoration sites throughout the Skagit and Samish watersheds. \n10am-1pm the SFEG native plant nursery\, located at 21109 Kelleher Rd\, Burlington\, WA 98233 \nBring your own gloves if you have them.  If not\, we will loan you some!  All ages welcome\, groups welcome! Dress for the weather! \nCovid-19 safety policy:  SFEG will provide hand sanitizer for volunteers\, and will sanitize all frequently touched surfaces.  Volunteers are encouraged to keep a mask handy at all times but\, per Washington State Covid-19 guidelines\, volunteers are not required to wear a mask while volunteering outdoors. \nRegister HERE!
URL:https://www.skagitfisheries.org/event/nursery-potting-party-feb-19/
LOCATION:WA
CATEGORIES:Upcoming Events,Work Party
ATTACH;FMTTYPE=image/jpeg:https://www.skagitfisheries.org/wp-content/uploads/2021/12/flowering-osoberry-1.jpg
END:VEVENT
BEGIN:VEVENT
DTSTART;TZID=America/Los_Angeles:20211204T100000
DTEND;TZID=America/Los_Angeles:20211204T130000
DTSTAMP:20260424T052406
CREATED:20210823T211804Z
LAST-MODIFIED:20211109T175247Z
UID:11583-1638612000-1638622800@www.skagitfisheries.org
SUMMARY:Pressentin Park Planting Party
DESCRIPTION:Join us December 4 for our last Pressentin Park planting party of the season to restore Chinook salmon habitat! \nIn partnership with Skagit County Parks and Recreation we’ll be planting native plants along the new side channel at Pressentin Park.  As this park will be closed through next June\, this and future volunteer events this fall are the only opportunities for the public to get a sneak peek at the new features of the park\, including the restored Chinook channel. \nGloves and tools will be provided.  Covid-19 safety policy:  SFEG will provide hand sanitizer for volunteers\, and will sanitize all frequently touched surfaces.  Volunteers are encouraged to keep a mask handy at all times but\, per Washington State Covid-19 guidelines\, volunteers are not required to wear a mask while volunteering outdoors.  All ages welcome. \nParking for this event is located at 59924 SR 20 in Marblemount. Please carpool if possible as parking is limited! \nSign up HERE \nUnaccompanied MINORS age 13-17 please have your parent or guardian fill out this form and bring it with you!
URL:https://www.skagitfisheries.org/event/pressentin-park-planting-party-2/
LOCATION:Pressentin County Park\, Marblemount\, WA
CATEGORIES:Upcoming Events,Work Party
ATTACH;FMTTYPE=image/jpeg:https://www.skagitfisheries.org/wp-content/uploads/2021/08/20211023_105718-1-scaled.jpg
END:VEVENT
BEGIN:VEVENT
DTSTART;TZID=America/Los_Angeles:20211120T100000
DTEND;TZID=America/Los_Angeles:20211120T130000
DTSTAMP:20260424T052406
CREATED:20210823T205637Z
LAST-MODIFIED:20211109T174707Z
UID:11578-1637402400-1637413200@www.skagitfisheries.org
SUMMARY:Pressentin Park Planting Party
DESCRIPTION:In partnership with Skagit County Parks and Recreation we’ll be planting native plants along the new side channel at Pressentin Park.  As this park will be closed through next June\, this and future volunteer events this fall are the only opportunities for the public to get a sneak peek at the new features of the park\, including the restored Chinook channel. \nGloves and tools will be provided.  Covid-19 safety policy:  SFEG will provide hand sanitizer for volunteers\, and will sanitize all frequently touched surfaces.  Volunteers are encouraged to keep a mask handy at all times but\, per Washington State Covid-19 guidelines\, volunteers are not required to wear a mask while volunteering outdoors.  \nAll ages welcome. \nParking for this event is located at 59924 SR 20 in Marblemount. Please carpool if possible as parking is limited! \nSign up Here \nUnaccompanied MINORS age 13-17 please have your parent or guardian fill out this form and bring it with you!
URL:https://www.skagitfisheries.org/event/pressentin-park-planting-party/
LOCATION:Pressentin County Park\, Marblemount\, WA
CATEGORIES:Upcoming Events,Work Party
ATTACH;FMTTYPE=image/jpeg:https://www.skagitfisheries.org/wp-content/uploads/2021/08/20211016_104552-scaled.jpg
END:VEVENT
BEGIN:VEVENT
DTSTART;TZID=America/Los_Angeles:20211023T100000
DTEND;TZID=America/Los_Angeles:20211023T130000
DTSTAMP:20260424T052406
CREATED:20210813T220404Z
LAST-MODIFIED:20211015T173322Z
UID:11561-1634983200-1634994000@www.skagitfisheries.org
SUMMARY:Make a Difference Day Pressentin Park Planting Party
DESCRIPTION:Make a difference for salmon and orcas by planting trees with us! \nIn partnership with Skagit County Parks and Recreation we’ll be planting native plants along the new side channel at Pressentin Park.  As this park will be closed through next June\, this and future volunteer events this fall are the only opportunities for the public to get a sneak peek at the new features of the park\, including the restored Chinook channel. \nGloves and tools will be provided.  Covid-19 safety policy:  SFEG will provide hand sanitizer for volunteers\, and will sanitize all frequently touched surfaces.  Volunteers are encouraged to keep a mask handy at all times but\, per Washington State Covid-19 guidelines\, volunteers are not required to wear a mask while volunteering outdoors.  \nAll ages welcome. \nParking for this event is located at 59924 SR 20 in Marblemount. Please carpool if possible as parking is limited! \nSign up HERE \nUnaccompanied MINORS age 13-17 please have your parent or guardian fill out this form and bring it with you!
URL:https://www.skagitfisheries.org/event/make-a-difference-day-pressentin-park-planting-party/
LOCATION:Pressentin County Park\, Marblemount\, WA
CATEGORIES:Upcoming Events,Work Party
ATTACH;FMTTYPE=image/jpeg:https://www.skagitfisheries.org/wp-content/uploads/2019/07/MADD.jpg
END:VEVENT
BEGIN:VEVENT
DTSTART;TZID=America/Los_Angeles:20211016T100000
DTEND;TZID=America/Los_Angeles:20211016T130000
DTSTAMP:20260424T052406
CREATED:20210811T230108Z
LAST-MODIFIED:20211015T173150Z
UID:11550-1634378400-1634389200@www.skagitfisheries.org
SUMMARY:Orca Recovery Day Planting at Pressentin Park
DESCRIPTION:Riparian planting is in order for the new side channel at Pressentin Park! \nHelp salmon and orcas by planting trees! \nCelebrate Orca Recovery Day in this project to restore Chinook salmon habitat.  In partnership with Skagit County Parks and Recreation we’ll be planting native plants along the new side channel at Pressentin Park.  As this park will be closed through next June\, this and future volutneer events this fall are the only opportunities for the public to get a sneak peek at the new features of the park\, including the restored Chinook channel. \nGloves and tools will be provided.  Covid-19 safety policy:  SFEG will provide hand sanitizer for volunteers\, and will sanitize all frequently touched surfaces.  Volunteers are encouraged to keep a mask handy at all times but\, per Washington State Covid-19 guidelines\, volunteers are not required to wear a mask while volunteering outdoors.  \nAll ages welcome. \nParking for this event is located at 59924 SR 20 in Marblemount. Please carpool if possible as parking is limited! \nSign up HERE \nUnaccompanied MINORS age 13-17 please have your parent or guardian fill out this form and bring it with you!
URL:https://www.skagitfisheries.org/event/orca-recovery-day-planting-at-pressentin-park/
LOCATION:Pressentin County Park\, Marblemount\, WA
CATEGORIES:Upcoming Events,Work Party
ATTACH;FMTTYPE=image/png:https://www.skagitfisheries.org/wp-content/uploads/2021/08/ORD-Vinyl-Sticker-Logo-e1632267599905.png
END:VEVENT
BEGIN:VEVENT
DTSTART;TZID=America/Los_Angeles:20210817T100000
DTEND;TZID=America/Los_Angeles:20210817T120000
DTSTAMP:20260424T052406
CREATED:20210813T220947Z
LAST-MODIFIED:20210813T221658Z
UID:11569-1629194400-1629201600@www.skagitfisheries.org
SUMMARY:Bowman Bay Work Party
DESCRIPTION:Help with watering\, weeding\, general \nmaintenance at this nearshore restoration site. \n  \nMeet at the Bowman Bay boat launch: \n4402 Bowman Bay Rd\, Anacortes \n  \nGloves and tools provided.  Covid-19 safety \npolicy: Vaccinated volunteers willing to attest to vaccination may volunteer without a mask\, but unvaccinated volunteers must wear a mask and maintain social distance.  All ages welcome. \nSign up HERE \n  \n 
URL:https://www.skagitfisheries.org/event/bowman-bay-work-party-7/
LOCATION:Bowman Bay\, 4402 Bowman Bay Rd\, Anacortes\, 98221\, United States
CATEGORIES:Upcoming Events,Work Party
END:VEVENT
BEGIN:VEVENT
DTSTART;TZID=America/Los_Angeles:20210719T110000
DTEND;TZID=America/Los_Angeles:20210719T123000
DTSTAMP:20260424T052406
CREATED:20210707T205432Z
LAST-MODIFIED:20210707T205432Z
UID:11471-1626692400-1626697800@www.skagitfisheries.org
SUMMARY:Bowman Bay Maintenance Party
DESCRIPTION:Help maintain the nearshore restoration project at Bowman Bay! \n  \nHelp with watering\, weeding\, general maintenance at this nearshore restoration site.  \nBeach seine and forage fish egg survey demo following work party. Stay and learn about the nearshore  ecosystem with staff and volunteers from Skagit Marine Resources Committee and Northwest Straits Foundation. \nMeet at the Bowman Bay boat launch: 4402 Bowman Bay Rd\, Anacortes\, WA 98221 \nhttps://goo.gl/maps/e3dxXPgLGnx3sBLZ8 \n  \nGloves and tools provided.  Covid-19 safety policy: Vaccinated volunteers willing to attest to vaccination may volunteer without a mask\, but unvaccinated volunteers must wear a mask and maintain social distance.  All ages welcome. \nSign up HERE \n  \n 
URL:https://www.skagitfisheries.org/event/bowman-bay-maintenance-party/
LOCATION:Bowman Bay\, 4402 Bowman Bay Rd\, Anacortes\, 98221\, United States
CATEGORIES:Upcoming Events,Work Party
END:VEVENT
BEGIN:VEVENT
DTSTART;TZID=America/Los_Angeles:20210708T090000
DTEND;TZID=America/Los_Angeles:20210708T120000
DTSTAMP:20260424T052406
CREATED:20210616T214841Z
LAST-MODIFIED:20210618T154833Z
UID:10857-1625734800-1625745600@www.skagitfisheries.org
SUMMARY:Riverfront Park Mulching Party
DESCRIPTION:Join us Thursday\, July 8th\, 9 am-noon to mulch recently planted native plants at Riverfront Park in Sedro-Woolley. Mulching will hold in moisture and limit weeds in the planted area.  Gloves\, tools\, and snacks provided. Dress for the weather\, and bring a water bottle!
URL:https://www.skagitfisheries.org/event/riverfront-park-mulching-party/
LOCATION:Riverfront Park\, 901 River Road\, Sedro-Woolley\, WA\, 98284
CATEGORIES:Upcoming Events,Work Party
ATTACH;FMTTYPE=image/jpeg:https://www.skagitfisheries.org/wp-content/uploads/2021/06/IMG_20191121_111151353_HDR.jpg
END:VEVENT
END:VCALENDAR