BEGIN:VCALENDAR
VERSION:2.0
PRODID:-//Skagit Fisheries Enhancement Group - ECPv6.15.20//NONSGML v1.0//EN
CALSCALE:GREGORIAN
METHOD:PUBLISH
X-WR-CALNAME:Skagit Fisheries Enhancement Group
X-ORIGINAL-URL:https://www.skagitfisheries.org
X-WR-CALDESC:Events for Skagit Fisheries Enhancement Group
REFRESH-INTERVAL;VALUE=DURATION:PT1H
X-Robots-Tag:noindex
X-PUBLISHED-TTL:PT1H
BEGIN:VTIMEZONE
TZID:America/Los_Angeles
BEGIN:DAYLIGHT
TZOFFSETFROM:-0800
TZOFFSETTO:-0700
TZNAME:PDT
DTSTART:20240310T100000
END:DAYLIGHT
BEGIN:STANDARD
TZOFFSETFROM:-0700
TZOFFSETTO:-0800
TZNAME:PST
DTSTART:20241103T090000
END:STANDARD
BEGIN:DAYLIGHT
TZOFFSETFROM:-0800
TZOFFSETTO:-0700
TZNAME:PDT
DTSTART:20250309T100000
END:DAYLIGHT
BEGIN:STANDARD
TZOFFSETFROM:-0700
TZOFFSETTO:-0800
TZNAME:PST
DTSTART:20251102T090000
END:STANDARD
BEGIN:DAYLIGHT
TZOFFSETFROM:-0800
TZOFFSETTO:-0700
TZNAME:PDT
DTSTART:20260308T100000
END:DAYLIGHT
BEGIN:STANDARD
TZOFFSETFROM:-0700
TZOFFSETTO:-0800
TZNAME:PST
DTSTART:20261101T090000
END:STANDARD
END:VTIMEZONE
BEGIN:VEVENT
DTSTART;TZID=America/Los_Angeles:20251025T090000
DTEND;TZID=America/Los_Angeles:20251025T120000
DTSTAMP:20260424T080958
CREATED:20250321T180021Z
LAST-MODIFIED:20250923T213215Z
UID:17996-1761382800-1761393600@www.skagitfisheries.org
SUMMARY:Upper Day Slough Planting Party October 25- Make a Difference Day
DESCRIPTION:Celebrate Make a Difference Day with us at our first planting at Upper Day Slough on October 25th!  From 9am-12pm\, we’ll be planting native trees and shrubs to continue to enhance riparian habitat at this site.  These plants will help restore the Skagit River floodplain and improve habitat for salmon and many other animals. \nBring a club\, group and all your friends- all ages welcome! \nSite address is 32569 South Lyman Ferry Road Sedro-Woolley\, WA \nPlease dress for the weather\, and wear shoes that can get muddy.  We’ll provide gloves\, tools and hot drinks/snacks!  RSVP here! \n  \n \n  \n 
URL:https://www.skagitfisheries.org/event/upper-day-slough-planting-party/
LOCATION:Upper Day Slough\, 32569 South Lyman Ferry Road\, Sedro-Woolley\, WA\, Sedro-Woolley\, WA\, 98284\, United States
CATEGORIES:Upcoming Events,Work Party
ATTACH;FMTTYPE=image/jpeg:https://www.skagitfisheries.org/wp-content/uploads/2023/11/20231118_104849-scaled.jpg
END:VEVENT
END:VCALENDAR