BEGIN:VCALENDAR
VERSION:2.0
PRODID:-//Skagit Fisheries Enhancement Group - ECPv6.15.20//NONSGML v1.0//EN
CALSCALE:GREGORIAN
METHOD:PUBLISH
X-WR-CALNAME:Skagit Fisheries Enhancement Group
X-ORIGINAL-URL:https://www.skagitfisheries.org
X-WR-CALDESC:Events for Skagit Fisheries Enhancement Group
REFRESH-INTERVAL;VALUE=DURATION:PT1H
X-Robots-Tag:noindex
X-PUBLISHED-TTL:PT1H
BEGIN:VTIMEZONE
TZID:America/Los_Angeles
BEGIN:DAYLIGHT
TZOFFSETFROM:-0800
TZOFFSETTO:-0700
TZNAME:PDT
DTSTART:20230312T100000
END:DAYLIGHT
BEGIN:STANDARD
TZOFFSETFROM:-0700
TZOFFSETTO:-0800
TZNAME:PST
DTSTART:20231105T090000
END:STANDARD
BEGIN:DAYLIGHT
TZOFFSETFROM:-0800
TZOFFSETTO:-0700
TZNAME:PDT
DTSTART:20240310T100000
END:DAYLIGHT
BEGIN:STANDARD
TZOFFSETFROM:-0700
TZOFFSETTO:-0800
TZNAME:PST
DTSTART:20241103T090000
END:STANDARD
BEGIN:DAYLIGHT
TZOFFSETFROM:-0800
TZOFFSETTO:-0700
TZNAME:PDT
DTSTART:20250309T100000
END:DAYLIGHT
BEGIN:STANDARD
TZOFFSETFROM:-0700
TZOFFSETTO:-0800
TZNAME:PST
DTSTART:20251102T090000
END:STANDARD
END:VTIMEZONE
BEGIN:VEVENT
DTSTART;TZID=America/Los_Angeles:20241116T090000
DTEND;TZID=America/Los_Angeles:20241116T120000
DTSTAMP:20260425T032330
CREATED:20240816T204258Z
LAST-MODIFIED:20240823T164924Z
UID:17327-1731747600-1731758400@www.skagitfisheries.org
SUMMARY:Planting Party at Skagit River South Fork
DESCRIPTION:Join SFEG and Skagit Land Trust to help restore habitat for salmon and many other species along the Skagit River on Saturday\, November 16\, 9am-noon \nPlease dress for the weather\, and wear shoes that can get muddy. \nAll ages welcome!  We’ll provide gloves\, tools and hot drinks/snacks! \nThe site is located south of Mount Vernon along the Skagit River at the intersection of Stackpole and Dike Rd: Google map \nRegister HERE \nContact us at 360-336-0172 with questions! \n 
URL:https://www.skagitfisheries.org/event/planting-party-at-skagit-river-south-fork-11-16/
LOCATION:WA
CATEGORIES:Upcoming Events,Work Party
ATTACH;FMTTYPE=image/jpeg:https://www.skagitfisheries.org/wp-content/uploads/2022/08/boots-n-tree.jpg
END:VEVENT
END:VCALENDAR