BEGIN:VCALENDAR
VERSION:2.0
PRODID:-//Skagit Fisheries Enhancement Group - ECPv6.15.20//NONSGML v1.0//EN
CALSCALE:GREGORIAN
METHOD:PUBLISH
X-WR-CALNAME:Skagit Fisheries Enhancement Group
X-ORIGINAL-URL:https://www.skagitfisheries.org
X-WR-CALDESC:Events for Skagit Fisheries Enhancement Group
REFRESH-INTERVAL;VALUE=DURATION:PT1H
X-Robots-Tag:noindex
X-PUBLISHED-TTL:PT1H
BEGIN:VTIMEZONE
TZID:America/Los_Angeles
BEGIN:DAYLIGHT
TZOFFSETFROM:-0800
TZOFFSETTO:-0700
TZNAME:PDT
DTSTART:20230312T100000
END:DAYLIGHT
BEGIN:STANDARD
TZOFFSETFROM:-0700
TZOFFSETTO:-0800
TZNAME:PST
DTSTART:20231105T090000
END:STANDARD
BEGIN:DAYLIGHT
TZOFFSETFROM:-0800
TZOFFSETTO:-0700
TZNAME:PDT
DTSTART:20240310T100000
END:DAYLIGHT
BEGIN:STANDARD
TZOFFSETFROM:-0700
TZOFFSETTO:-0800
TZNAME:PST
DTSTART:20241103T090000
END:STANDARD
BEGIN:DAYLIGHT
TZOFFSETFROM:-0800
TZOFFSETTO:-0700
TZNAME:PDT
DTSTART:20250309T100000
END:DAYLIGHT
BEGIN:STANDARD
TZOFFSETFROM:-0700
TZOFFSETTO:-0800
TZNAME:PST
DTSTART:20251102T090000
END:STANDARD
END:VTIMEZONE
BEGIN:VEVENT
DTSTART;TZID=America/Los_Angeles:20241026T090000
DTEND;TZID=America/Los_Angeles:20241026T120000
DTSTAMP:20260425T051326
CREATED:20240808T164304Z
LAST-MODIFIED:20240916T200559Z
UID:17192-1729933200-1729944000@www.skagitfisheries.org
SUMMARY:Make A Difference Day Planting Party
DESCRIPTION:Join us in celebrating Make A Difference Day by planting trees to enhance habitat for salmon and all the species that benefit from healthy salmon runs! RSVP HERE \nWHEN: October 26th\, 2024\, 9am-noon \nWHERE: Little Carey’s Wetland – The site doesn’t really have a proper address\, so to find it\, just enter 48°31’48.3″N 121°59’15.7″W into your navigation app/Google and it will direct you to a site off Walders Rd. Parking will be off Walders as well\, and it will be a little bit of a walk from the parking site to the planting site. Follow posted signage for directions to our tent site! \nGoogle map \nWe will provide gloves\, tools\, and light snacks. Dress for the weather\, we recommend lots of layers and some boots you don’t mind getting dirty! \n 
URL:https://www.skagitfisheries.org/event/make-a-difference-day-planting-party/
LOCATION:Carey’s Slough\, 48°31'48.3"N 121°59'15.7"W\, Sedro-Woolley\, 98284\, United States
CATEGORIES:Upcoming Events,Work Party
ATTACH;FMTTYPE=image/jpeg:https://www.skagitfisheries.org/wp-content/uploads/2024/08/20240309_105508-scaled.jpg
END:VEVENT
END:VCALENDAR