BEGIN:VCALENDAR
VERSION:2.0
PRODID:-//Skagit Fisheries Enhancement Group - ECPv6.15.20//NONSGML v1.0//EN
CALSCALE:GREGORIAN
METHOD:PUBLISH
X-ORIGINAL-URL:https://www.skagitfisheries.org
X-WR-CALDESC:Events for Skagit Fisheries Enhancement Group
REFRESH-INTERVAL;VALUE=DURATION:PT1H
X-Robots-Tag:noindex
X-PUBLISHED-TTL:PT1H
BEGIN:VTIMEZONE
TZID:America/Los_Angeles
BEGIN:DAYLIGHT
TZOFFSETFROM:-0800
TZOFFSETTO:-0700
TZNAME:PDT
DTSTART:20230312T100000
END:DAYLIGHT
BEGIN:STANDARD
TZOFFSETFROM:-0700
TZOFFSETTO:-0800
TZNAME:PST
DTSTART:20231105T090000
END:STANDARD
BEGIN:DAYLIGHT
TZOFFSETFROM:-0800
TZOFFSETTO:-0700
TZNAME:PDT
DTSTART:20240310T100000
END:DAYLIGHT
BEGIN:STANDARD
TZOFFSETFROM:-0700
TZOFFSETTO:-0800
TZNAME:PST
DTSTART:20241103T090000
END:STANDARD
BEGIN:DAYLIGHT
TZOFFSETFROM:-0800
TZOFFSETTO:-0700
TZNAME:PDT
DTSTART:20250309T100000
END:DAYLIGHT
BEGIN:STANDARD
TZOFFSETFROM:-0700
TZOFFSETTO:-0800
TZNAME:PST
DTSTART:20251102T090000
END:STANDARD
END:VTIMEZONE
BEGIN:VEVENT
DTSTART;TZID=America/Los_Angeles:20240115T100000
DTEND;TZID=America/Los_Angeles:20240115T130000
DTSTAMP:20260425T202502
CREATED:20231201T195627Z
LAST-MODIFIED:20240112T230153Z
UID:16221-1705312800-1705323600@www.skagitfisheries.org
SUMMARY:CANCELED Martin Luther King Jr. Day Planting Party
DESCRIPTION:In the interest of volunteer safety and comfort\, we have made the difficult decision to cancel our January 15th event due to inclement weather. While it seems like it is in fact going to warm up a bit before Monday\, it does not seem like it will be warm enough to safely hold this event\, and we are making this decision with the safety of our volunteers and staff in mind–we believe this is the best course of action. In lieu of attending our event\, we encourage you to still honor Martin Luther King Jr.’s legacy by finding a way to celebrate safely – here is a list of “19 Resources and Ideas to Celebrate the MLK Day of Service“.\n\nWe apologize for any inconvenience this cancellation may cause\, and we encourage you to keep an eye on our website for future volunteer events and opportunities (that will hopefully be warmer!)\n  \n  \n \n  \n 
URL:https://www.skagitfisheries.org/event/martin-luther-king-jr-day-planting-party/
LOCATION:Carey’s Slough\, 48°31'48.3"N 121°59'15.7"W\, Sedro-Woolley\, 98284\, United States
CATEGORIES:Upcoming Events,Work Party
ATTACH;FMTTYPE=image/jpeg:https://www.skagitfisheries.org/wp-content/uploads/2023/12/Careys-Slough-Apr-28-2017-1.jpg
END:VEVENT
END:VCALENDAR