BEGIN:VCALENDAR
VERSION:2.0
PRODID:-//Skagit Fisheries Enhancement Group - ECPv6.15.20//NONSGML v1.0//EN
CALSCALE:GREGORIAN
METHOD:PUBLISH
X-WR-CALNAME:Skagit Fisheries Enhancement Group
X-ORIGINAL-URL:https://www.skagitfisheries.org
X-WR-CALDESC:Events for Skagit Fisheries Enhancement Group
REFRESH-INTERVAL;VALUE=DURATION:PT1H
X-Robots-Tag:noindex
X-PUBLISHED-TTL:PT1H
BEGIN:VTIMEZONE
TZID:America/Los_Angeles
BEGIN:DAYLIGHT
TZOFFSETFROM:-0800
TZOFFSETTO:-0700
TZNAME:PDT
DTSTART:20250309T100000
END:DAYLIGHT
BEGIN:STANDARD
TZOFFSETFROM:-0700
TZOFFSETTO:-0800
TZNAME:PST
DTSTART:20251102T090000
END:STANDARD
BEGIN:DAYLIGHT
TZOFFSETFROM:-0800
TZOFFSETTO:-0700
TZNAME:PDT
DTSTART:20260308T100000
END:DAYLIGHT
BEGIN:STANDARD
TZOFFSETFROM:-0700
TZOFFSETTO:-0800
TZNAME:PST
DTSTART:20261101T090000
END:STANDARD
BEGIN:DAYLIGHT
TZOFFSETFROM:-0800
TZOFFSETTO:-0700
TZNAME:PDT
DTSTART:20270314T100000
END:DAYLIGHT
BEGIN:STANDARD
TZOFFSETFROM:-0700
TZOFFSETTO:-0800
TZNAME:PST
DTSTART:20271107T090000
END:STANDARD
END:VTIMEZONE
BEGIN:VEVENT
DTSTART;TZID=America/Los_Angeles:20260226T093000
DTEND;TZID=America/Los_Angeles:20260226T120000
DTSTAMP:20260423T220634
CREATED:20250106T232615Z
LAST-MODIFIED:20260218T220821Z
UID:17723-1772098200-1772107200@www.skagitfisheries.org
SUMMARY:Spring 2026 Education Volunteers Workshop
DESCRIPTION:Join us Thursday\, February 26 for a brief training 9:30-Noon in how to help with Salmon in the Classroom spring field trips.  We’ll be releasing salmon fry and completing service-learning projects along the stream. \nField trips will be held throughout March and April\, during the school day. Volunteers must pass a background check and be comfortable working with elementary school aged children\, sometimes in adverse weather conditions. \nThis field session will show new and returning volunteers how they can assist with salmon release field trips in March and April. \n  \nPlease register HERE \n  \n  \n 
URL:https://www.skagitfisheries.org/event/spring-2026-education-workshop/
LOCATION:Northern State Recreation Area\, 25625 Helmick Rd\, Sedro-Woolley\, 98284\, United States
CATEGORIES:Upcoming Events
ATTACH;FMTTYPE=image/jpeg:https://www.skagitfisheries.org/wp-content/uploads/2024/01/Edison-students-with-fry-scaled-e1714416856940.jpg
END:VEVENT
BEGIN:VEVENT
DTSTART;TZID=America/Los_Angeles:20260228T090000
DTEND;TZID=America/Los_Angeles:20260228T120000
DTSTAMP:20260423T220634
CREATED:20240807T161910Z
LAST-MODIFIED:20260224T163540Z
UID:17177-1772269200-1772280000@www.skagitfisheries.org
SUMMARY:Planting Party at Skagit River South Mount Vernon
DESCRIPTION:Join us Saturday February 28th\, 9am-noon for our first regular planting party of the season at the Skagit River in South Mount Vernon. \nThis site\, outside the dike at the Mount Vernon wastewater treatment plant\, has been undergoing transformation from field to wooded riverbank\, and the process is ongoing.  Help us restore this riparian forest! \nWe provide tools\, gloves\, hot drinks and snacks! \nRSVP HERE \n\n 
URL:https://www.skagitfisheries.org/event/feb-28-planting-party/
LOCATION:Mount Vernon Wastewater Treatment plant\, 1401 Hazel Rd\, Mount Vernon\, WA
CATEGORIES:Upcoming Events,Work Party
ATTACH;FMTTYPE=image/jpeg:https://www.skagitfisheries.org/wp-content/uploads/2024/08/20241019_103822-scaled.jpg
END:VEVENT
END:VCALENDAR