BEGIN:VCALENDAR
VERSION:2.0
PRODID:-//Skagit Fisheries Enhancement Group - ECPv6.15.20//NONSGML v1.0//EN
CALSCALE:GREGORIAN
METHOD:PUBLISH
X-ORIGINAL-URL:https://www.skagitfisheries.org
X-WR-CALDESC:Events for Skagit Fisheries Enhancement Group
REFRESH-INTERVAL;VALUE=DURATION:PT1H
X-Robots-Tag:noindex
X-PUBLISHED-TTL:PT1H
BEGIN:VTIMEZONE
TZID:America/Los_Angeles
BEGIN:DAYLIGHT
TZOFFSETFROM:-0800
TZOFFSETTO:-0700
TZNAME:PDT
DTSTART:20240310T100000
END:DAYLIGHT
BEGIN:STANDARD
TZOFFSETFROM:-0700
TZOFFSETTO:-0800
TZNAME:PST
DTSTART:20241103T090000
END:STANDARD
BEGIN:DAYLIGHT
TZOFFSETFROM:-0800
TZOFFSETTO:-0700
TZNAME:PDT
DTSTART:20250309T100000
END:DAYLIGHT
BEGIN:STANDARD
TZOFFSETFROM:-0700
TZOFFSETTO:-0800
TZNAME:PST
DTSTART:20251102T090000
END:STANDARD
BEGIN:DAYLIGHT
TZOFFSETFROM:-0800
TZOFFSETTO:-0700
TZNAME:PDT
DTSTART:20260308T100000
END:DAYLIGHT
BEGIN:STANDARD
TZOFFSETFROM:-0700
TZOFFSETTO:-0800
TZNAME:PST
DTSTART:20261101T090000
END:STANDARD
END:VTIMEZONE
BEGIN:VEVENT
DTSTART;TZID=America/Los_Angeles:20250927T120000
DTEND;TZID=America/Los_Angeles:20250927T150000
DTSTAMP:20260424T053659
CREATED:20240808T200324Z
LAST-MODIFIED:20250925T183456Z
UID:17215-1758974400-1758985200@www.skagitfisheries.org
SUMMARY:Salmon Sightings: Cumberland Creek
DESCRIPTION:Join Skagit Fisheries and Skagit Land Trust at Cumberland Creek from Noon-3pm on Saturday\, September 27 to see if we can spot some pink salmon! Staff from Skagit Fisheries and Skagit Land Trust will be on hand to answer questons about salmon\, and the restoration work done on this SLT property. SLT staff will be offering guided walks of the site\, and other activities. \nNo need to register\, but check back in case of any weather-related changes or cancellations. \nParking is ex-stream-ly limited\, so please carpool! \nHow to Get There\nFrom the South Skagit Hwy Park & Ride in Sedro-Woolley off of Route 9\, take the S. Skagit Hwy 12 miles east.  Follow directions for address 34183 or using the Google map link below. Look for parking area in front of locked gate on the left side of the road. Boardwalk and Skagit Land Trust signs are just beyond gate.  Park in front of the gate and walk in. A good place to meet for carpooling is the Park and Ride area at the west entrance to South Skagit Highway on Highway 9.\nClick here for a Google Map link to Cumberland Creek Conservation Area. \n\n\n\n\nFor a self-guided tour of places to look for salmon this fall\, check out our Salmon Sightings Site
URL:https://www.skagitfisheries.org/event/cumberland-creek-salmon-sighting/
LOCATION:34183 South Skagit Highway
CATEGORIES:Upcoming Events
ATTACH;FMTTYPE=image/jpeg:https://www.skagitfisheries.org/wp-content/uploads/2024/08/FSJ_Newley_PInkSalmonO-U-1.jpg
END:VEVENT
END:VCALENDAR