BEGIN:VCALENDAR
VERSION:2.0
PRODID:-//Skagit Fisheries Enhancement Group - ECPv6.15.20//NONSGML v1.0//EN
CALSCALE:GREGORIAN
METHOD:PUBLISH
X-WR-CALNAME:Skagit Fisheries Enhancement Group
X-ORIGINAL-URL:https://www.skagitfisheries.org
X-WR-CALDESC:Events for Skagit Fisheries Enhancement Group
REFRESH-INTERVAL;VALUE=DURATION:PT1H
X-Robots-Tag:noindex
X-PUBLISHED-TTL:PT1H
BEGIN:VTIMEZONE
TZID:America/Los_Angeles
BEGIN:DAYLIGHT
TZOFFSETFROM:-0800
TZOFFSETTO:-0700
TZNAME:PDT
DTSTART:20240310T100000
END:DAYLIGHT
BEGIN:STANDARD
TZOFFSETFROM:-0700
TZOFFSETTO:-0800
TZNAME:PST
DTSTART:20241103T090000
END:STANDARD
BEGIN:DAYLIGHT
TZOFFSETFROM:-0800
TZOFFSETTO:-0700
TZNAME:PDT
DTSTART:20250309T100000
END:DAYLIGHT
BEGIN:STANDARD
TZOFFSETFROM:-0700
TZOFFSETTO:-0800
TZNAME:PST
DTSTART:20251102T090000
END:STANDARD
BEGIN:DAYLIGHT
TZOFFSETFROM:-0800
TZOFFSETTO:-0700
TZNAME:PDT
DTSTART:20260308T100000
END:DAYLIGHT
BEGIN:STANDARD
TZOFFSETFROM:-0700
TZOFFSETTO:-0800
TZNAME:PST
DTSTART:20261101T090000
END:STANDARD
END:VTIMEZONE
BEGIN:VEVENT
DTSTART;TZID=America/Los_Angeles:20250301T090000
DTEND;TZID=America/Los_Angeles:20250301T120000
DTSTAMP:20260424T152434
CREATED:20250106T190832Z
LAST-MODIFIED:20250110T201428Z
UID:17716-1740819600-1740830400@www.skagitfisheries.org
SUMMARY:Upper Day Slough Work Party (First out of 2 weekends)
DESCRIPTION:Join us at our first of two plantings at Upper Day Slough on March 1st! From 9am-12pm\, we’ll be planting native trees and shrubs to enhance riparian habitat at this site. RSVP here! \n 
URL:https://www.skagitfisheries.org/event/upper-day-slough-work-party/
LOCATION:Upper Day Slough\, 32569 South Lyman Ferry Road\, Sedro-Woolley\, WA\, Sedro-Woolley\, WA\, 98284\, United States
CATEGORIES:Upcoming Events,Work Party
ATTACH;FMTTYPE=image/jpeg:https://www.skagitfisheries.org/wp-content/uploads/2024/01/IMG_3777-e1736190717390.jpg
END:VEVENT
BEGIN:VEVENT
DTSTART;TZID=America/Los_Angeles:20250315T090000
DTEND;TZID=America/Los_Angeles:20250315T123000
DTSTAMP:20260424T152434
CREATED:20250110T222144Z
LAST-MODIFIED:20250110T222144Z
UID:17760-1742029200-1742041800@www.skagitfisheries.org
SUMMARY:Riverfront Park Planting Party
DESCRIPTION:Join us on March 15th 2025 at Riverfront Park where we will be planting native trees and shrubs to enhance riparian habitat! We planted over 1\,000 trees at this site with volunteers last year\, but there is still more work to do. Sign up here! \n 
URL:https://www.skagitfisheries.org/event/riverfront-park-planting-party/
LOCATION:Riverfront Park\, 901 River Road\, Sedro-Woolley\, WA\, 98284
CATEGORIES:Upcoming Events,Work Party
ATTACH;FMTTYPE=image/jpeg:https://www.skagitfisheries.org/wp-content/uploads/2023/11/20231118_104849-scaled.jpg
END:VEVENT
BEGIN:VEVENT
DTSTART;TZID=America/Los_Angeles:20250322T090000
DTEND;TZID=America/Los_Angeles:20250322T120000
DTSTAMP:20260424T152434
CREATED:20250110T224758Z
LAST-MODIFIED:20250110T224758Z
UID:17764-1742634000-1742644800@www.skagitfisheries.org
SUMMARY:Potting Party at our Native Plant Nursery!
DESCRIPTION:We need help getting plants into pots where they can grow large enough to be used in future restoration projects! On March 22nd\, we will be at our native plant nursery from 9am-12pm getting as many plants into pots as possible to prepare them for next year’s planting efforts. RSVP to join us! \n 
URL:https://www.skagitfisheries.org/event/potting-party-at-our-native-plant-nursery/
LOCATION:SFEG Native Plant Nursery\, 21109 Kelleher Road\, Burlington\, WA\, 98233\, United States
CATEGORIES:Upcoming Events,Work Party
ATTACH;FMTTYPE=image/jpeg:https://www.skagitfisheries.org/wp-content/uploads/2023/03/20230304_111627-scaled.jpg
END:VEVENT
END:VCALENDAR