BEGIN:VCALENDAR
VERSION:2.0
PRODID:-//Skagit Fisheries Enhancement Group - ECPv6.15.20//NONSGML v1.0//EN
CALSCALE:GREGORIAN
METHOD:PUBLISH
X-ORIGINAL-URL:https://www.skagitfisheries.org
X-WR-CALDESC:Events for Skagit Fisheries Enhancement Group
REFRESH-INTERVAL;VALUE=DURATION:PT1H
X-Robots-Tag:noindex
X-PUBLISHED-TTL:PT1H
BEGIN:VTIMEZONE
TZID:America/Los_Angeles
BEGIN:DAYLIGHT
TZOFFSETFROM:-0800
TZOFFSETTO:-0700
TZNAME:PDT
DTSTART:20230312T100000
END:DAYLIGHT
BEGIN:STANDARD
TZOFFSETFROM:-0700
TZOFFSETTO:-0800
TZNAME:PST
DTSTART:20231105T090000
END:STANDARD
BEGIN:DAYLIGHT
TZOFFSETFROM:-0800
TZOFFSETTO:-0700
TZNAME:PDT
DTSTART:20240310T100000
END:DAYLIGHT
BEGIN:STANDARD
TZOFFSETFROM:-0700
TZOFFSETTO:-0800
TZNAME:PST
DTSTART:20241103T090000
END:STANDARD
BEGIN:DAYLIGHT
TZOFFSETFROM:-0800
TZOFFSETTO:-0700
TZNAME:PDT
DTSTART:20250309T100000
END:DAYLIGHT
BEGIN:STANDARD
TZOFFSETFROM:-0700
TZOFFSETTO:-0800
TZNAME:PST
DTSTART:20251102T090000
END:STANDARD
END:VTIMEZONE
BEGIN:VEVENT
DTSTART;TZID=America/Los_Angeles:20241209T120000
DTEND;TZID=America/Los_Angeles:20241209T130000
DTSTAMP:20260424T204518
CREATED:20241126T222336Z
LAST-MODIFIED:20241126T222725Z
UID:17625-1733745600-1733749200@www.skagitfisheries.org
SUMMARY:Children's Museum Salmon Release
DESCRIPTION:In February of 2024\, we placed 200 coho eggs in the fish tank at the Children’s Museum of Skagit County. We released a good number of these babies into the wild throughout the year\, leaving us with about a dozen coho fry left at the museum. Now these salmon babies are ready to venture out into the unknown\, and we’re going to give them a proper sendoff to make way for a new round of eggs in the tank! On Monday\, December 9th at noon\, join Skagit Fisheries in releasing these fry into their natal watershed at Northern State Recreation Area\, at 25625 Helmick Rd in Sedro-Woolley release a salmon\, enjoy the park\, and help us get ready for another great year of raising our salmon babies! \n 
URL:https://www.skagitfisheries.org/event/childrens-museum-salmon-release-2/
LOCATION:Northern State Recreation Area\, 25625 Helmick Rd\, Sedro-Woolley\, 98284\, United States
CATEGORIES:Upcoming Events
ATTACH;FMTTYPE=image/jpeg:https://www.skagitfisheries.org/wp-content/uploads/2024/11/20231215_120154-3-scaled.jpg
END:VEVENT
END:VCALENDAR