BEGIN:VCALENDAR
VERSION:2.0
PRODID:-//Skagit Fisheries Enhancement Group - ECPv6.15.20//NONSGML v1.0//EN
CALSCALE:GREGORIAN
METHOD:PUBLISH
X-WR-CALNAME:Skagit Fisheries Enhancement Group
X-ORIGINAL-URL:https://www.skagitfisheries.org
X-WR-CALDESC:Events for Skagit Fisheries Enhancement Group
REFRESH-INTERVAL;VALUE=DURATION:PT1H
X-Robots-Tag:noindex
X-PUBLISHED-TTL:PT1H
BEGIN:VTIMEZONE
TZID:America/Los_Angeles
BEGIN:DAYLIGHT
TZOFFSETFROM:-0800
TZOFFSETTO:-0700
TZNAME:PDT
DTSTART:20230312T100000
END:DAYLIGHT
BEGIN:STANDARD
TZOFFSETFROM:-0700
TZOFFSETTO:-0800
TZNAME:PST
DTSTART:20231105T090000
END:STANDARD
BEGIN:DAYLIGHT
TZOFFSETFROM:-0800
TZOFFSETTO:-0700
TZNAME:PDT
DTSTART:20240310T100000
END:DAYLIGHT
BEGIN:STANDARD
TZOFFSETFROM:-0700
TZOFFSETTO:-0800
TZNAME:PST
DTSTART:20241103T090000
END:STANDARD
BEGIN:DAYLIGHT
TZOFFSETFROM:-0800
TZOFFSETTO:-0700
TZNAME:PDT
DTSTART:20250309T100000
END:DAYLIGHT
BEGIN:STANDARD
TZOFFSETFROM:-0700
TZOFFSETTO:-0800
TZNAME:PST
DTSTART:20251102T090000
END:STANDARD
END:VTIMEZONE
BEGIN:VEVENT
DTSTART;TZID=America/Los_Angeles:20240710T181500
DTEND;TZID=America/Los_Angeles:20240710T200000
DTSTAMP:20260425T050706
CREATED:20240625T152353Z
LAST-MODIFIED:20240625T172801Z
UID:17027-1720635300-1720641600@www.skagitfisheries.org
SUMMARY:Trivia Night at District Brewing
DESCRIPTION:  \nJoin Skagit Fisheries\, in partnership with District Brewing\, for another trivia fundraiser! \nWednesday\, July 10th\, at 6:15pm Clay Christofferson (District’s usual trivia host) will be hosting trivia with $1 from each pint sold going to Skagit Fisheries to further our mission of restoring salmon for future generations. 
URL:https://www.skagitfisheries.org/event/trivia-night-at-district-brewing/
LOCATION:District Brewing\, 520 Main Street\, Mount Vernon\, WA\, 98273\, United States
CATEGORIES:Upcoming Events
END:VEVENT
END:VCALENDAR