BEGIN:VCALENDAR
VERSION:2.0
PRODID:-//Skagit Fisheries Enhancement Group - ECPv6.15.20//NONSGML v1.0//EN
CALSCALE:GREGORIAN
METHOD:PUBLISH
X-WR-CALNAME:Skagit Fisheries Enhancement Group
X-ORIGINAL-URL:https://www.skagitfisheries.org
X-WR-CALDESC:Events for Skagit Fisheries Enhancement Group
REFRESH-INTERVAL;VALUE=DURATION:PT1H
X-Robots-Tag:noindex
X-PUBLISHED-TTL:PT1H
BEGIN:VTIMEZONE
TZID:America/Los_Angeles
BEGIN:DAYLIGHT
TZOFFSETFROM:-0800
TZOFFSETTO:-0700
TZNAME:PDT
DTSTART:20230312T100000
END:DAYLIGHT
BEGIN:STANDARD
TZOFFSETFROM:-0700
TZOFFSETTO:-0800
TZNAME:PST
DTSTART:20231105T090000
END:STANDARD
BEGIN:DAYLIGHT
TZOFFSETFROM:-0800
TZOFFSETTO:-0700
TZNAME:PDT
DTSTART:20240310T100000
END:DAYLIGHT
BEGIN:STANDARD
TZOFFSETFROM:-0700
TZOFFSETTO:-0800
TZNAME:PST
DTSTART:20241103T090000
END:STANDARD
BEGIN:DAYLIGHT
TZOFFSETFROM:-0800
TZOFFSETTO:-0700
TZNAME:PDT
DTSTART:20250309T100000
END:DAYLIGHT
BEGIN:STANDARD
TZOFFSETFROM:-0700
TZOFFSETTO:-0800
TZNAME:PST
DTSTART:20251102T090000
END:STANDARD
END:VTIMEZONE
BEGIN:VEVENT
DTSTART;TZID=America/Los_Angeles:20240628T100000
DTEND;TZID=America/Los_Angeles:20240628T130000
DTSTAMP:20260425T065317
CREATED:20240603T201559Z
LAST-MODIFIED:20240611T141738Z
UID:16928-1719568800-1719579600@www.skagitfisheries.org
SUMMARY:Bowman Bay Discovery Day: Celebrating Restoration
DESCRIPTION:Join us on Friday\, June 28th for Bowman Bay Discovery Day! This brand new event is a partnership between Skagit Fisheries\, the Skagit Marine Resources Committee\, the Northwest Straits Foundation\, the Salish Sea School\, and the Salal Chapter of the Washington Native Plant Society\, funded by the Salmon Recovery Funding Board and WA State Parks. From 10-1 we will enjoy a day packed with fun\, from a beach seining demonstration to native plant ID activities. We hope to see you there! \nNote: Discover Passes are required to park at Deception Pass State Park\, and parking will be VERY limited so we recommend carpooling as much as possible!  \nRSVP here: https://nwstraitsfoundation.salsalabs.org/bbddjune28/index.html \n 
URL:https://www.skagitfisheries.org/event/bowman-bay-discovery-day-celebrating-restoration/
LOCATION:Bowman Bay\, 4402 Bowman Bay Rd\, Anacortes\, 98221\, United States
CATEGORIES:Upcoming Events
END:VEVENT
END:VCALENDAR