BEGIN:VCALENDAR
VERSION:2.0
PRODID:-//Skagit Fisheries Enhancement Group - ECPv6.15.20//NONSGML v1.0//EN
CALSCALE:GREGORIAN
METHOD:PUBLISH
X-ORIGINAL-URL:https://www.skagitfisheries.org
X-WR-CALDESC:Events for Skagit Fisheries Enhancement Group
REFRESH-INTERVAL;VALUE=DURATION:PT1H
X-Robots-Tag:noindex
X-PUBLISHED-TTL:PT1H
BEGIN:VTIMEZONE
TZID:America/Los_Angeles
BEGIN:DAYLIGHT
TZOFFSETFROM:-0800
TZOFFSETTO:-0700
TZNAME:PDT
DTSTART:20230312T100000
END:DAYLIGHT
BEGIN:STANDARD
TZOFFSETFROM:-0700
TZOFFSETTO:-0800
TZNAME:PST
DTSTART:20231105T090000
END:STANDARD
BEGIN:DAYLIGHT
TZOFFSETFROM:-0800
TZOFFSETTO:-0700
TZNAME:PDT
DTSTART:20240310T100000
END:DAYLIGHT
BEGIN:STANDARD
TZOFFSETFROM:-0700
TZOFFSETTO:-0800
TZNAME:PST
DTSTART:20241103T090000
END:STANDARD
BEGIN:DAYLIGHT
TZOFFSETFROM:-0800
TZOFFSETTO:-0700
TZNAME:PDT
DTSTART:20250309T100000
END:DAYLIGHT
BEGIN:STANDARD
TZOFFSETFROM:-0700
TZOFFSETTO:-0800
TZNAME:PST
DTSTART:20251102T090000
END:STANDARD
END:VTIMEZONE
BEGIN:VEVENT
DTSTART;TZID=America/Los_Angeles:20240208T173000
DTEND;TZID=America/Los_Angeles:20240208T200000
DTSTAMP:20260425T133548
CREATED:20231220T184452Z
LAST-MODIFIED:20240111T230246Z
UID:16273-1707413400-1707422400@www.skagitfisheries.org
SUMMARY:2024 Annual Meeting
DESCRIPTION:  \n \nJoin us on February 8th\, 2024 for our Annual Meeting! We will be celebrating habitat restoration wins of 2023 by having a salmon dinner\, hosting a silent auction\, and electing new members to our Board of Directors. RSVP here! \n 
URL:https://www.skagitfisheries.org/event/2024-annual-meeting/
LOCATION:Sedro-Woolley Community Center\, 703 Pacific St\, Sedro-Woolley\, WA\, 98284\, United States
CATEGORIES:Upcoming Events
END:VEVENT
BEGIN:VEVENT
DTSTART;TZID=America/Los_Angeles:20240213T100000
DTEND;TZID=America/Los_Angeles:20240213T150000
DTSTAMP:20260425T133548
CREATED:20240109T181043Z
LAST-MODIFIED:20240109T181043Z
UID:16327-1707818400-1707836400@www.skagitfisheries.org
SUMMARY:Education Volunteer Spring Training
DESCRIPTION:Join us Tuesday\, February 13 for a brief training in how to help with Salmon in the Classroom spring field trips.  We’ll be releasing salmon fry and completing service-learning projects along the stream. \n  \nA morning Zoom meeting will introduce new volunteers to our edcation programs.  An afternoon field session will show new and returning volunteers how they can assist with salmon release field trips in March. \n  \nRegister HERE
URL:https://www.skagitfisheries.org/event/education-volunteer-spring-training/
LOCATION:Northern State Recreation Area\, 25625 Helmick Rd\, Sedro-Woolley\, 98284\, United States
CATEGORIES:Upcoming Events
ATTACH;FMTTYPE=image/jpeg:https://www.skagitfisheries.org/wp-content/uploads/2024/01/Coho-fry-in-Marblemount-Slough.jpg
END:VEVENT
BEGIN:VEVENT
DTSTART;TZID=America/Los_Angeles:20240217T100000
DTEND;TZID=America/Los_Angeles:20240217T130000
DTSTAMP:20260425T133548
CREATED:20240130T174028Z
LAST-MODIFIED:20240130T174028Z
UID:16400-1708164000-1708174800@www.skagitfisheries.org
SUMMARY:Carey's Slough Planting Party Feb 17
DESCRIPTION:Join us Saturday\, Feb 17 to plant wetland plants at Carey’s Slough in Hamilton.  These plants will contribute to the water quality and salmon habitat restoration efforts in the greater Carey’s Slough and Carey’s Creek system\, providing habitat for many animal species. \nAll ages and experience levels welcome.  This site is accessed by a wooded trail with some barriers. Please let us know if you would like assistance with access. \nWe provide snacks\, work gloves and tools.  Please dress for the weather and wear shoes that can get muddy. \nRegister HERE
URL:https://www.skagitfisheries.org/event/careys-slough-planting-party-feb-17/
LOCATION:WA
CATEGORIES:Upcoming Events,Work Party
ATTACH;FMTTYPE=image/jpeg:https://www.skagitfisheries.org/wp-content/uploads/2023/12/Careys-Slough-Apr-28-2017-1.jpg
END:VEVENT
BEGIN:VEVENT
DTSTART;TZID=America/Los_Angeles:20240224T100000
DTEND;TZID=America/Los_Angeles:20240224T130000
DTSTAMP:20260425T133548
CREATED:20240130T192308Z
LAST-MODIFIED:20240130T192613Z
UID:16407-1708768800-1708779600@www.skagitfisheries.org
SUMMARY:Potting Party Feb 24
DESCRIPTION:Join us Saturday\, February 24 for our first potting event of the season!  Help us get young plants into pots where they will grow large enough to be planted at future restoration sites next year. \nWhere: Skagit Fisheries Nursery at 21109 Kelleher Rd\, Burlington \nWhen: 10am-1pm \nPlease dress for the weather; we will provide work gloves\, tools\, and boots if you need them (the nursery can get muddy if it’s been rainy.) \nSnacks and porta potty also provided! \nMore info and Register HERE
URL:https://www.skagitfisheries.org/event/potting-party-feb-24/
LOCATION:SFEG Native Plant Nursery\, 21109 Kelleher Road\, Burlington\, WA\, 98233\, United States
CATEGORIES:Upcoming Events,Work Party
ATTACH;FMTTYPE=image/jpeg:https://www.skagitfisheries.org/wp-content/uploads/2023/01/installed-nursery-sign-scaled.jpg
END:VEVENT
END:VCALENDAR