BEGIN:VCALENDAR
VERSION:2.0
PRODID:-//Skagit Fisheries Enhancement Group - ECPv6.15.20//NONSGML v1.0//EN
CALSCALE:GREGORIAN
METHOD:PUBLISH
X-WR-CALNAME:Skagit Fisheries Enhancement Group
X-ORIGINAL-URL:https://www.skagitfisheries.org
X-WR-CALDESC:Events for Skagit Fisheries Enhancement Group
REFRESH-INTERVAL;VALUE=DURATION:PT1H
X-Robots-Tag:noindex
X-PUBLISHED-TTL:PT1H
BEGIN:VTIMEZONE
TZID:America/Los_Angeles
BEGIN:DAYLIGHT
TZOFFSETFROM:-0800
TZOFFSETTO:-0700
TZNAME:PDT
DTSTART:20220313T100000
END:DAYLIGHT
BEGIN:STANDARD
TZOFFSETFROM:-0700
TZOFFSETTO:-0800
TZNAME:PST
DTSTART:20221106T090000
END:STANDARD
BEGIN:DAYLIGHT
TZOFFSETFROM:-0800
TZOFFSETTO:-0700
TZNAME:PDT
DTSTART:20230312T100000
END:DAYLIGHT
BEGIN:STANDARD
TZOFFSETFROM:-0700
TZOFFSETTO:-0800
TZNAME:PST
DTSTART:20231105T090000
END:STANDARD
BEGIN:DAYLIGHT
TZOFFSETFROM:-0800
TZOFFSETTO:-0700
TZNAME:PDT
DTSTART:20240310T100000
END:DAYLIGHT
BEGIN:STANDARD
TZOFFSETFROM:-0700
TZOFFSETTO:-0800
TZNAME:PST
DTSTART:20241103T090000
END:STANDARD
END:VTIMEZONE
BEGIN:VEVENT
DTSTART;TZID=America/Los_Angeles:20230916T100000
DTEND;TZID=America/Los_Angeles:20230916T130000
DTSTAMP:20260425T212512
CREATED:20230817T222544Z
LAST-MODIFIED:20230822T223231Z
UID:15804-1694858400-1694869200@www.skagitfisheries.org
SUMMARY:Stewardship Saturday-Cottonwood Island September 16
DESCRIPTION:Join us Saturday\, September 16th\, 10am-1pm to remove invasive English ivy from the restoration areas along the Skagit River at Cottonwood Island. \nDirections: From McLean Rd in West Mount Vernon\, take Penn Rd south to the boat launch\, just past the intersection with Calhoun Rd.\n\nGoogle Map:https://goo.gl/maps/14ApHB5MJHovEuas6\n\nAccessibility: The walk from the parking area to the work site is ~500 yards over relatively smooth\, even terrain. There is the possibility of a few fallen trees to scramble over.\n\nPlease bring a water bottle\, weather-appropriate clothing\, and closed-toe shoes.\n\nWe will provide tools\, gloves\, instruction\, coffee and light snacks.\nPlease register HERE
URL:https://www.skagitfisheries.org/event/stewardship-saturday-cottonwood-island-september-16/
LOCATION:Cottonwood Island Boat Launch\, Mount Vernon\, WA
CATEGORIES:Upcoming Events,Work Party
ATTACH;FMTTYPE=image/jpeg:https://www.skagitfisheries.org/wp-content/uploads/2023/08/La-Conner-Elementary-ivy-at-Pioneer-Park.jpg
END:VEVENT
BEGIN:VEVENT
DTSTART;TZID=America/Los_Angeles:20230921T090000
DTEND;TZID=America/Los_Angeles:20230921T123000
DTSTAMP:20260425T212512
CREATED:20230816T230911Z
LAST-MODIFIED:20230830T171628Z
UID:15767-1695286800-1695299400@www.skagitfisheries.org
SUMMARY:Education Volunteer Training September 21
DESCRIPTION:Would you like to teach kids about salmon and watersheds?  Join our volunteer training September 21\, 9am-12:30pm to help with classroom lessons and field trips this this fall. You’ll learn about our Salmon in Schools and Kids in Creeks programs\, and how to lead activities in and out of the classroom. This is a great opportunity for those looking for teaching experience\, or just get outside and have fun! \nWe’ll start with an overview of our school-based education programs and then head to the creek to learn about field trip lessons and coordination. \nSign up to help with one or more classroom lessons or field trips through December 15. \nRequirements: \n\nMust have weekday availability between 8am and 3pm\nWilling to be outside in inclement weather\nPhysically able to walk on uneven ground\, possibly in streams\nAble to carry up to 30 pounds\nPass a background check done by SFEG and with school districts\n\nRegister HERE \n*A second training will be held in early 2024 to train on spring field trips
URL:https://www.skagitfisheries.org/event/education-volunteer-training-september-21/
LOCATION:Central Skagit Library\, 110 W State St\, Sedro-Woolley\, WA\, 98284
CATEGORIES:Upcoming Events
ATTACH;FMTTYPE=image/jpeg:https://www.skagitfisheries.org/wp-content/uploads/2023/06/ICRS-PressentinCr.jpg
END:VEVENT
END:VCALENDAR