BEGIN:VCALENDAR
VERSION:2.0
PRODID:-//Skagit Fisheries Enhancement Group - ECPv6.15.20//NONSGML v1.0//EN
CALSCALE:GREGORIAN
METHOD:PUBLISH
X-WR-CALNAME:Skagit Fisheries Enhancement Group
X-ORIGINAL-URL:https://www.skagitfisheries.org
X-WR-CALDESC:Events for Skagit Fisheries Enhancement Group
REFRESH-INTERVAL;VALUE=DURATION:PT1H
X-Robots-Tag:noindex
X-PUBLISHED-TTL:PT1H
BEGIN:VTIMEZONE
TZID:America/Los_Angeles
BEGIN:DAYLIGHT
TZOFFSETFROM:-0800
TZOFFSETTO:-0700
TZNAME:PDT
DTSTART:20240310T100000
END:DAYLIGHT
BEGIN:STANDARD
TZOFFSETFROM:-0700
TZOFFSETTO:-0800
TZNAME:PST
DTSTART:20241103T090000
END:STANDARD
BEGIN:DAYLIGHT
TZOFFSETFROM:-0800
TZOFFSETTO:-0700
TZNAME:PDT
DTSTART:20250309T100000
END:DAYLIGHT
BEGIN:STANDARD
TZOFFSETFROM:-0700
TZOFFSETTO:-0800
TZNAME:PST
DTSTART:20251102T090000
END:STANDARD
BEGIN:DAYLIGHT
TZOFFSETFROM:-0800
TZOFFSETTO:-0700
TZNAME:PDT
DTSTART:20260308T100000
END:DAYLIGHT
BEGIN:STANDARD
TZOFFSETFROM:-0700
TZOFFSETTO:-0800
TZNAME:PST
DTSTART:20261101T090000
END:STANDARD
END:VTIMEZONE
BEGIN:VEVENT
DTSTART;VALUE=DATE:20251208
DTEND;VALUE=DATE:20251229
DTSTAMP:20260424T030207
CREATED:20251124T214558Z
LAST-MODIFIED:20251218T033736Z
UID:18987-1765152000-1766966399@www.skagitfisheries.org
SUMMARY:New Salmon Art Merch-campaign closes December 28!
DESCRIPTION:For a limited time you can help support Skagit Fisheries monitoring programs by purchasing limited edition salmon art merchandise. Get yours today- the store closes December 28!\nFollow THIS LINK to order yours!
URL:https://www.skagitfisheries.org/event/new-salmon-art-merch-limited-time-only/
CATEGORIES:Promotion
ATTACH;FMTTYPE=image/jpeg:https://www.skagitfisheries.org/wp-content/uploads/2025/11/option-3-fish-scaled-e1764020347856.jpg
END:VEVENT
END:VCALENDAR